BEGIN:VCALENDAR
VERSION:2.0
METHOD:PUBLISH
X-WR-CALNAME:吳鳳科技大學活動管理系統 | 四月 26\, 2026 - 五月 26\, 2026
PRODID:-//strange bird labs//Drupal iCal API//EN
BEGIN:VEVENT
DTSTAMP;VALUE=DATE:20260425T161658Z
DTSTART;VALUE=DATE-TIME:20260331T000000Z
DTEND;VALUE=DATE-TIME:20260508T040000Z
UID:https://signup.wfu.edu.tw/node/3407
URL;VALUE=URI:https://signup.wfu.edu.tw/node/3407
SUMMARY:【課外活動發展組】114-2「熠熠吳鳳：專業領航定格，祝福接力續航」短影音競賽
DESCRIPTION:<p>114-2「熠熠吳鳳：專業領航定格，祝福接力續航」短影音競賽  主辦單位：吳鳳科技大學畢業生聯誼會  協辦單位：吳鳳科技大學課外活動發展組  指導單位：吳鳳科技大學秘書室  日&nbsp\;&nbsp\;&nbsp\;&nbsp\;期：115年03月31日-05月08日  獎項與獎勵  l</p>
 
END:VEVENT
BEGIN:VEVENT
DTSTAMP;VALUE=DATE:20260425T161658Z
DTSTART;VALUE=DATE-TIME:20260429T041000Z
DTEND;VALUE=DATE-TIME:20260429T071500Z
UID:https://signup.wfu.edu.tw/node/3410
URL;VALUE=URI:https://signup.wfu.edu.tw/node/3410
SUMMARY:114-2資源教室「咖啡探索地圖—一起喝杯咖啡吧！」手作活動(限資源教室學生及助理人員參加)
DESCRIPTION:<p><strong>(報名前記得先點右邊的登入，使用者名稱=學號，密碼=學生系統密碼)</strong>  想要和怡安、怡如老師喝杯咖啡嗎?</p>
 
END:VEVENT
BEGIN:VEVENT
DTSTAMP;VALUE=DATE:20260425T161658Z
DTSTART;VALUE=DATE-TIME:20260512T052000Z
DTEND;VALUE=DATE-TIME:20260512T080000Z
UID:https://signup.wfu.edu.tw/node/3413
URL;VALUE=URI:https://signup.wfu.edu.tw/node/3413
SUMMARY:114-2【通識教育中心】115年度教學優化研習(一)：愛情的生存通訊錄-在親密關係中找回「我」
DESCRIPTION:<p>【研習流程】
 <ul>
 <li>13：20-13：30 報到</li>
 <li>13：30-15：00 主題演講(I)：愛情的生存通訊錄--在親密關係中找回「我」</li>
 <li>講師：葉欣怡 老師</li>
 <li>15：00-15：10 中場休息</li>
 <li>15：10-16：00 主題演講(II)：實務案例分享、討論與交流</li>
 <li>講師：葉欣怡 老師</li>
 <li>16：00-賦歸</li>
 </ul>
 <p>&nbsp\;</p>
 
END:VEVENT
BEGIN:VEVENT
DTSTAMP;VALUE=DATE:20260425T161658Z
DTSTART;VALUE=DATE-TIME:20260513T041000Z
DTEND;VALUE=DATE-TIME:20260513T071500Z
UID:https://signup.wfu.edu.tw/node/3392
URL;VALUE=URI:https://signup.wfu.edu.tw/node/3392
SUMMARY:114-2資源教室職業輔導活動(限資源教室學生及助理人員參加)
DESCRIPTION:<p><strong>(報名前記得先點右邊的登入，使用者名稱=學號，密碼=學生系統密碼)</strong>活動規劃中</p>
 
END:VEVENT
BEGIN:VEVENT
DTSTAMP;VALUE=DATE:20260425T161658Z
DTSTART;VALUE=DATE-TIME:20260513T052000Z
DTEND;VALUE=DATE-TIME:20260513T080000Z
UID:https://signup.wfu.edu.tw/node/3414
URL;VALUE=URI:https://signup.wfu.edu.tw/node/3414
SUMMARY:114-2【通識教育中心】115年度教學優化研習(二)：婆娑之洋．美麗之島：詩文中的台灣歷史與文化
DESCRIPTION:<p>&nbsp\;&nbsp\;【研習流程】
 <ul>
 <li>13：20-13：30 報到</li>
 <li>13：30-15：00 主題演講(I)：婆娑之洋．美麗之島-詩文中的台灣歷史與文化</li>
 <li>講師：吳佩萱 老師</li>
 <li>15：00-15：10 中場休息</li>
 <li>15：10-16：00 主題演講(II)：實務案例分享、討論與交流</li>
 <li>講師：吳佩萱 老師</li>
 <li>16：00-賦歸</li>
 </ul>
 
END:VEVENT
BEGIN:VEVENT
DTSTAMP;VALUE=DATE:20260425T161658Z
DTSTART;VALUE=DATE-TIME:20260514T052000Z
DTEND;VALUE=DATE-TIME:20260514T080000Z
UID:https://signup.wfu.edu.tw/node/3415
URL;VALUE=URI:https://signup.wfu.edu.tw/node/3415
SUMMARY:114-2【通識教育中心】115年度教學優化研習(三)：EMI 教學實施現況、策略與挑戰：以普及提升學校為例
DESCRIPTION:<p>【研習流程】
 <ul>
 <li>13：20-13：30 報到</li>
 <li>13：30-15：00 主題演講(I)：EMI 教學實施現況、策略與挑戰：以普及提升學校為例</li>
 <li>講師：陳俊福 老師</li>
 <li>15：00-15：10 中場休息</li>
 <li>15：10-16：00 主題演講(II)：實務案例分享、討論與交流</li>
 <li>講師：陳俊福 老師</li>
 <li>16：00-賦歸</li>
 </ul>
 
END:VEVENT
BEGIN:VEVENT
DTSTAMP;VALUE=DATE:20260425T161658Z
DTSTART;VALUE=DATE-TIME:20260515T012000Z
DTEND;VALUE=DATE-TIME:20260515T040000Z
UID:https://signup.wfu.edu.tw/node/3416
URL;VALUE=URI:https://signup.wfu.edu.tw/node/3416
SUMMARY:114-2【通識教育中心】115年度教學優化研習(四)：如果明天就是終點
DESCRIPTION:<p>【研習流程】
 <ul>
 <li>09：20-09：30 報到</li>
 <li>09：30-11：00 主題演講(I)：如果明天就是終點</li>
 <li>講師：劉峻儒 老師</li>
 <li>11：00-11：10 中場休息</li>
 <li>11：10-12：00 主題演講(II)：實務案例分享、討論與交流</li>
 <li>講師：劉峻儒福 老師</li>
 <li>12：00-賦歸</li>
 </ul>
 <p>&nbsp\;</p>
 
END:VEVENT
BEGIN:VEVENT
DTSTAMP;VALUE=DATE:20260425T161658Z
DTSTART;VALUE=DATE-TIME:20260515T051000Z
DTEND;VALUE=DATE-TIME:20260515T073000Z
UID:https://signup.wfu.edu.tw/node/3417
URL;VALUE=URI:https://signup.wfu.edu.tw/node/3417
SUMMARY:114-2【通識教育中心】115年度教學優化研習(五)：城市裡的綠色革命-從餐桌到垃圾桶的永續計畫
DESCRIPTION:<p>【研習流程】
 <ul>
 <li>13：10-13：20 報到</li>
 <li>13：20-14：20 主題演講(I)：城市裡的綠色革命：從餐桌到垃圾桶的永續計畫</li>
 <li>講師：劉峻儒 老師</li>
 <li>14：20-14：30 中場休息</li>
 <li>14：30-15：30 主題演講(II)：實務案例分享、討論與交流</li>
 <li>講師：劉峻儒福 老師</li>
 <li>15：30-賦歸</li>
 </ul>
 
END:VEVENT
END:VCALENDAR
